BEGIN:VCALENDAR
VERSION:2.0
PRODID:-//Brian Pate Seminars - ECPv6.15.20//NONSGML v1.0//EN
CALSCALE:GREGORIAN
METHOD:PUBLISH
X-WR-CALNAME:Brian Pate Seminars
X-ORIGINAL-URL:https://brianpateseminars.com
X-WR-CALDESC:Events for Brian Pate Seminars
REFRESH-INTERVAL;VALUE=DURATION:PT1H
X-Robots-Tag:noindex
X-PUBLISHED-TTL:PT1H
BEGIN:VTIMEZONE
TZID:America/New_York
BEGIN:DAYLIGHT
TZOFFSETFROM:-0500
TZOFFSETTO:-0400
TZNAME:EDT
DTSTART:20250309T070000
END:DAYLIGHT
BEGIN:STANDARD
TZOFFSETFROM:-0400
TZOFFSETTO:-0500
TZNAME:EST
DTSTART:20251102T060000
END:STANDARD
BEGIN:DAYLIGHT
TZOFFSETFROM:-0500
TZOFFSETTO:-0400
TZNAME:EDT
DTSTART:20260308T070000
END:DAYLIGHT
BEGIN:STANDARD
TZOFFSETFROM:-0400
TZOFFSETTO:-0500
TZNAME:EST
DTSTART:20261101T060000
END:STANDARD
BEGIN:DAYLIGHT
TZOFFSETFROM:-0500
TZOFFSETTO:-0400
TZNAME:EDT
DTSTART:20270314T070000
END:DAYLIGHT
BEGIN:STANDARD
TZOFFSETFROM:-0400
TZOFFSETTO:-0500
TZNAME:EST
DTSTART:20271107T060000
END:STANDARD
END:VTIMEZONE
BEGIN:VEVENT
DTSTART;TZID=America/New_York:20260602T083000
DTEND;TZID=America/New_York:20260602T123000
DTSTAMP:20260423T170135
CREATED:20250916T184230Z
LAST-MODIFIED:20250916T184235Z
UID:6855-1780389000-1780403400@brianpateseminars.com
SUMMARY:General Update via Zoom Tuesday\, June 2\, 2026 8:30am-12:30pm
DESCRIPTION:General Update CE Course\nThe 2025-26 General Update course gives attendees 4 hours of Update Continuing Education Credit for the 2025-26 license year. Topics include: agency\, frequently asked questions\, fair housing\, licensing and education\, and law and rule updates.  \nThis is a 4 hour course created by the North Carolina Real Estate Commission for Update Credit for NON-BIC licensees. \n			\n			\n				\n				\n				\n				\n			\n				\n				\n				\n				\n				\n				\n				Register For This Course\n			\n				\n				\n				\n				\n				*Registration for this course closes at 6pm the night before the course is scheduled to begin.* \n\n			\n			\n				\n				\n				\n				\n			\n				\n				\n				\n				\n				\n				\n				\n				\n				\n				\n				Registration for this course has closed.\nPlease check the courses for the next available course. \n			\n			\n				\n				\n				\n				\n				\n				Search For Courses
URL:https://brianpateseminars.com/courses/general-update-via-zoom-tuesday-june-2-2026-830am-1230pm/
LOCATION:Online
CATEGORIES:General Update CE Course
ATTACH;FMTTYPE=image/jpeg:https://brianpateseminars.com/wp-content/uploads/2021/12/Genup-Course-Cover-Page-for-Website.jpg
END:VEVENT
BEGIN:VEVENT
DTSTART;TZID=America/New_York:20260602T130000
DTEND;TZID=America/New_York:20260602T170000
DTSTAMP:20260423T170136
CREATED:20250916T183536Z
LAST-MODIFIED:20250916T183540Z
UID:6849-1780405200-1780419600@brianpateseminars.com
SUMMARY:Cons Scams and Hacks Online- 1:00pm-5:00pm
DESCRIPTION:Cons Scams and Hacks\nIn an era where hackers are stealing everything from social media profiles to closing checks\, it is important for Realtors to understand how to protect themselves. This class identifies many ways in which evil doers can try to steal from you. This class is a must even for those that don’t have a comfort level with technology. \nThis is a 4 hour CE course\n			\n			\n				\n				\n				\n				\n			\n				\n				\n				\n				\n				\n				\n				Register For This Course\n			\n				\n				\n				\n				\n				*Registration for this course closes at 6pm the night before the course is scheduled to begin.*
URL:https://brianpateseminars.com/courses/cons-scams-and-hacks-online-100pm-500pm/
LOCATION:Online
CATEGORIES:Cons
ATTACH;FMTTYPE=image/jpeg:https://brianpateseminars.com/wp-content/uploads/2022/05/Cons-Scams-and-Hacks-2024-Cover.jpg
END:VEVENT
BEGIN:VEVENT
DTSTART;TZID=America/New_York:20260727T111500
DTEND;TZID=America/New_York:20260727T120000
DTSTAMP:20260423T170136
CREATED:20260423T141525Z
LAST-MODIFIED:20260423T141531Z
UID:8387-1785150900-1785153600@brianpateseminars.com
SUMMARY:AI Boot Camp with Brian Pate\, July 27\, 2026 - August 31\, 2026 11:15am-12noon Via Zoom
DESCRIPTION:This is NOT a CE Course \nWeek 1: OpenAI ChatGPT Basics \n\nPaid version vs. free version\nWhat is it best for?\nUsing simple prompts\nAI Hallucination\nData privacy\nPrompt Engineering\n\nWeek 2: Gemini Basics \n\nWhat is it best for?\nUsing simple prompts\nUsing Nano Banana to create images\nComparison of OpenAI vs Gemini side by side\n\nWeek 3: Claude \n\nBuilding your brain of information\nDifferences between Claude and others\n\nWeek 4: Confirmation Bias \n\nInteracting with AI Systems\n\nWeek 5: Custom GPTs in Open AI \n\nHow to create custom GPTs to automate recurring tasks\n\nWeek 6: Your AI Tech Stack \n\nUsing Claude\, OpenAI and Gemini together\n\n			\n			\n				\n				\n				\n				\n			\n				\n				\n				\n				\n				\n				\n				Register For This Course\n			\n				\n				\n				\n				\n				*Registration for this course closes at 6pm the night before the course is scheduled to begin.*
URL:https://brianpateseminars.com/courses/ai-boot-camp-with-brian-pate-july-27-2026-august-31-2026-1115am-12noon-via-zoom/
LOCATION:Online
ATTACH;FMTTYPE=image/png:https://brianpateseminars.com/wp-content/uploads/2026/04/July-27-2026-AI-Boot-Camp-Ad-for-Brian-Pate-Seminars-web.png
END:VEVENT
END:VCALENDAR