BEGIN:VCALENDAR
VERSION:2.0
PRODID:-//Brian Pate Seminars - ECPv6.15.20//NONSGML v1.0//EN
CALSCALE:GREGORIAN
METHOD:PUBLISH
X-ORIGINAL-URL:https://brianpateseminars.com
X-WR-CALDESC:Events for Brian Pate Seminars
REFRESH-INTERVAL;VALUE=DURATION:PT1H
X-Robots-Tag:noindex
X-PUBLISHED-TTL:PT1H
BEGIN:VTIMEZONE
TZID:America/New_York
BEGIN:DAYLIGHT
TZOFFSETFROM:-0500
TZOFFSETTO:-0400
TZNAME:EDT
DTSTART:20230312T070000
END:DAYLIGHT
BEGIN:STANDARD
TZOFFSETFROM:-0400
TZOFFSETTO:-0500
TZNAME:EST
DTSTART:20231105T060000
END:STANDARD
BEGIN:DAYLIGHT
TZOFFSETFROM:-0500
TZOFFSETTO:-0400
TZNAME:EDT
DTSTART:20240310T070000
END:DAYLIGHT
BEGIN:STANDARD
TZOFFSETFROM:-0400
TZOFFSETTO:-0500
TZNAME:EST
DTSTART:20241103T060000
END:STANDARD
BEGIN:DAYLIGHT
TZOFFSETFROM:-0500
TZOFFSETTO:-0400
TZNAME:EDT
DTSTART:20250309T070000
END:DAYLIGHT
BEGIN:STANDARD
TZOFFSETFROM:-0400
TZOFFSETTO:-0500
TZNAME:EST
DTSTART:20251102T060000
END:STANDARD
BEGIN:DAYLIGHT
TZOFFSETFROM:-0500
TZOFFSETTO:-0400
TZNAME:EDT
DTSTART:20260308T070000
END:DAYLIGHT
BEGIN:STANDARD
TZOFFSETFROM:-0400
TZOFFSETTO:-0500
TZNAME:EST
DTSTART:20261101T060000
END:STANDARD
BEGIN:DAYLIGHT
TZOFFSETFROM:-0500
TZOFFSETTO:-0400
TZNAME:EDT
DTSTART:20270314T070000
END:DAYLIGHT
BEGIN:STANDARD
TZOFFSETFROM:-0400
TZOFFSETTO:-0500
TZNAME:EST
DTSTART:20271107T060000
END:STANDARD
END:VTIMEZONE
BEGIN:VEVENT
DTSTART;TZID=America/New_York:20260421T083000
DTEND;TZID=America/New_York:20260421T123000
DTSTAMP:20260423T172347
CREATED:20250926T180212Z
LAST-MODIFIED:20250926T180217Z
UID:6918-1776760200-1776774600@brianpateseminars.com
SUMMARY:Tuesday\, April 21\, 2026 General Update Sponsored by Drees Homes
DESCRIPTION:General Update CE Course\nThe 2025-26 General Update course gives attendees 4 hours of Update Continuing Education Credit for the 2025-26 license year. Topics include: agency\, frequently asked questions\, fair housing\, licensing and education\, and law and rule updates.  \nThis is a 4 hour course created by the North Carolina Real Estate Commission for Update Credit for NON-BIC licensees. \n			\n			\n				\n				\n				\n				\n			\n				\n				\n				\n				\n				\n				\n				\n				\n				\n				\n				*Registration for this course closes at 6pm the night before the course is scheduled to begin.* \n\n			\n			\n				\n				\n				\n				\n			\n				\n				\n				\n				\n				\n				\n				\n				\n				\n				\n				Registration for this course has closed.\nPlease check the courses for the next available course. \n			\n			\n				\n				\n				\n				\n				\n				Search For Courses
URL:https://brianpateseminars.com/courses/tuesday-april-21-2026-general-update-sponsored-by-drees-homes/
LOCATION:Drees Homes\, 8529 Six Forks Road\, Raleigh\, NC\, 27615\, United States
CATEGORIES:General Update CE Course
ATTACH;FMTTYPE=image/jpeg:https://brianpateseminars.com/wp-content/uploads/2021/12/Genup-Course-Cover-Page-for-Website.jpg
END:VEVENT
BEGIN:VEVENT
DTSTART;TZID=America/New_York:20260318T090000
DTEND;TZID=America/New_York:20260318T130000
DTSTAMP:20260423T172348
CREATED:20260121T160347Z
LAST-MODIFIED:20260121T160354Z
UID:7552-1773824400-1773838800@brianpateseminars.com
SUMMARY:March 18\, 2026 General Update Online 9am-1pm
DESCRIPTION:General Update CE Course\nThe 2025-26 General Update course gives attendees 4 hours of Update Continuing Education Credit for the 2025-26 license year. Topics include: agency\, frequently asked questions\, fair housing\, licensing and education\, and law and rule updates.  \nThis is a 4 hour course created by the North Carolina Real Estate Commission for Update Credit for NON-BIC licensees. \n			\n			\n				\n				\n				\n				\n			\n				\n				\n				\n				\n				\n				\n				\n				\n				\n				\n				*Registration for this course closes at 6pm the night before the course is scheduled to begin.* \n\n			\n			\n				\n				\n				\n				\n			\n				\n				\n				\n				\n				\n				\n				\n				\n				\n				\n				Registration for this course has closed.\nPlease check the courses for the next available course. \n			\n			\n				\n				\n				\n				\n				\n				Search For Courses
URL:https://brianpateseminars.com/courses/march-18-2026-general-update-online-9am-1pm/
LOCATION:Online
CATEGORIES:General Update CE Course
ATTACH;FMTTYPE=image/jpeg:https://brianpateseminars.com/wp-content/uploads/2021/12/Genup-Course-Cover-Page-for-Website.jpg
END:VEVENT
BEGIN:VEVENT
DTSTART;TZID=America/New_York:20260311T083000
DTEND;TZID=America/New_York:20260311T123000
DTSTAMP:20260423T172348
CREATED:20251230T154320Z
LAST-MODIFIED:20251230T154333Z
UID:7290-1773217800-1773232200@brianpateseminars.com
SUMMARY:General Update IN-PERSON\, Apex\, NC 8:30am-12:30pm Sponsored by True Homes
DESCRIPTION:General Update CE Course\nSponsored by True Homes. \nThe 2025-26 General Update course gives attendees 4 hours of Update Continuing Education Credit for the 2025-26 license year. Topics include: agency\, frequently asked questions\, fair housing\, licensing and education\, and law and rule updates. \nThis is a 4 hour course created by the North Carolina Real Estate Commission for Update Credit for NON-BIC licensees. \n			\n			\n				\n				\n				\n				\n			\n				\n				\n				\n				\n				\n				\n				\n				\n				\n				\n				*Registration for this course closes at 6pm the night before the course is scheduled to begin.* \n\n			\n			\n				\n				\n				\n				\n			\n				\n				\n				\n				\n				\n				\n				\n				\n				\n				\n				Registration for this course has closed.\nPlease check the courses for the next available course. \n			\n			\n				\n				\n				\n				\n				\n				Search For Courses
URL:https://brianpateseminars.com/courses/general-update-in-person-apex-nc-830am-1230pm-sponsored-by-true-homes/
LOCATION:2151 Energy Drive\, Apex\, NC\, 2151 Energy Drive\, Apex\, NC\, 27502\, United States
CATEGORIES:General Update CE Course
ATTACH;FMTTYPE=image/jpeg:https://brianpateseminars.com/wp-content/uploads/2021/12/Genup-Course-Cover-Page-for-Website.jpg
END:VEVENT
BEGIN:VEVENT
DTSTART;TZID=America/New_York:20260211T083000
DTEND;TZID=America/New_York:20260211T123000
DTSTAMP:20260423T172348
CREATED:20251206T001504Z
LAST-MODIFIED:20251206T001519Z
UID:7164-1770798600-1770813000@brianpateseminars.com
SUMMARY:General Update In Person\, Presented by Toll Brothers in Raleigh\, NC 8:30am-12:30pm
DESCRIPTION:General Update CE Course\nThe 2025-26 General Update course gives attendees 4 hours of Update Continuing Education Credit for the 2025-26 license year. Topics include: agency\, frequently asked questions\, fair housing\, licensing and education\, and law and rule updates. \nThis is a 4 hour course created by the North Carolina Real Estate Commission for Update Credit for NON-BIC licensees. \n			\n			\n				\n				\n				\n				\n			\n				\n				\n				\n				\n				\n				\n				\n				\n				\n				\n				*Registration for this course closes at 6pm the night before the course is scheduled to begin.* \n\n			\n			\n				\n				\n				\n				\n			\n				\n				\n				\n				\n				\n				\n				\n				\n				\n				\n				Registration for this course has closed.\nPlease check the courses for the next available course. \n			\n			\n				\n				\n				\n				\n				\n				Search For Courses
URL:https://brianpateseminars.com/courses/general-update-in-person-presented-by-toll-brothers-in-raleigh-nc-830am-1230pm/
LOCATION:Regency at Olde Towne Amenity Center\, 4930 Boswall Green Court\, Raleigh\, NC\, 27610\, United States
CATEGORIES:General Update CE Course
ATTACH;FMTTYPE=image/jpeg:https://brianpateseminars.com/wp-content/uploads/2021/12/Genup-Course-Cover-Page-for-Website.jpg
END:VEVENT
BEGIN:VEVENT
DTSTART;TZID=America/New_York:20251009T083000
DTEND;TZID=America/New_York:20251009T123000
DTSTAMP:20260423T172348
CREATED:20250916T170702Z
LAST-MODIFIED:20250916T170926Z
UID:6798-1759998600-1760013000@brianpateseminars.com
SUMMARY:General Update IN-PERSON- Wake Forest\, NC October 9\, 2025 8:30am-12:30pm
DESCRIPTION:General Update CE Course\nThe 2025-26 General Update course gives attendees 4 hours of Update Continuing Education Credit for the 2025-26 license year. Topics include: agency\, frequently asked questions\, fair housing\, licensing and education\, and law and rule updates.  \nThis is a 4 hour course created by the North Carolina Real Estate Commission for Update Credit for NON-BIC licensees. \n			\n			\n				\n				\n				\n				\n			\n				\n				\n				\n				\n				\n				\n				\n				\n				\n				\n				*Registration for this course closes at 6pm the night before the course is scheduled to begin.* \n\n			\n			\n				\n				\n				\n				\n			\n				\n				\n				\n				\n				\n				\n				\n				\n				\n				\n				Registration for this course has closed.\nPlease check the courses for the next available course. \n			\n			\n				\n				\n				\n				\n				\n				Search For Courses
URL:https://brianpateseminars.com/courses/general-update-in-person-wake-forest-nc-october-9-2025-830am-1230pm/
LOCATION:The Corner Meeting House\, 102 North Avenue\, Wake Forest\, 27587\, United States
CATEGORIES:General Update CE Course
ATTACH;FMTTYPE=image/jpeg:https://brianpateseminars.com/wp-content/uploads/2021/12/Genup-Course-Cover-Page-for-Website.jpg
END:VEVENT
BEGIN:VEVENT
DTSTART;TZID=America/New_York:20241113T083000
DTEND;TZID=America/New_York:20241113T123000
DTSTAMP:20260423T172348
CREATED:20241003T002046Z
LAST-MODIFIED:20241003T002051Z
UID:5046-1731486600-1731501000@brianpateseminars.com
SUMMARY:BICUP In-Person: Wednesday November 13\, 2024 8:30am-12:30pm
DESCRIPTION:Broker In Charge CE Course\nThis course will be held in-person at the Wake Forest Chamber of Commerce\, 305 South White Street\, Wake Forest\, NC. \nThe 2024-25 Broker In Charge Update (BICUP) course gives attendees 4 hours of Update Continuing Education Credit for the 2024-2025 license year. Topics include: \n\nNCREC Environmental Material Facts\nFrequently Asked Questions\nPermits\nLaw and Rule Updates\nLicensing and Education\n\nThis is a 4-hour course created by the North Carolina Real Estate Commission for Update Credit for BIC and BIC Eligible licensees. \n			\n			\n				\n				\n				\n				\n			\n				\n				\n				\n				\n				\n				\n				\n				\n				\n				\n				*Registration for this course closes at 6pm the night before the course is scheduled to begin.* \n\n			\n			\n				\n				\n				\n				\n			\n				\n				\n				\n				\n				\n				\n				\n				\n				\n				\n				Registration for this course has closed.\nPlease check the courses for the next available course. \n			\n			\n				\n				\n				\n				\n				\n				Search For Courses
URL:https://brianpateseminars.com/courses/bicup-in-person-wednesday-november-13-2024-830am-1230pm/
LOCATION:Wake Forest Chamber of Commerce\, 350 South White Street\, Wake Forest\, NC\, 27587\, United States
CATEGORIES:General Update CE Course
ATTACH;FMTTYPE=image/jpeg:https://brianpateseminars.com/wp-content/uploads/2022/08/2024-2025-BICUP-Course-Cover-Page.jpg
END:VEVENT
END:VCALENDAR