BEGIN:VCALENDAR
VERSION:2.0
PRODID:-//Brian Pate Seminars - ECPv6.15.20//NONSGML v1.0//EN
CALSCALE:GREGORIAN
METHOD:PUBLISH
X-WR-CALNAME:Brian Pate Seminars
X-ORIGINAL-URL:https://brianpateseminars.com
X-WR-CALDESC:Events for Brian Pate Seminars
REFRESH-INTERVAL;VALUE=DURATION:PT1H
X-Robots-Tag:noindex
X-PUBLISHED-TTL:PT1H
BEGIN:VTIMEZONE
TZID:America/New_York
BEGIN:DAYLIGHT
TZOFFSETFROM:-0500
TZOFFSETTO:-0400
TZNAME:EDT
DTSTART:20250309T070000
END:DAYLIGHT
BEGIN:STANDARD
TZOFFSETFROM:-0400
TZOFFSETTO:-0500
TZNAME:EST
DTSTART:20251102T060000
END:STANDARD
BEGIN:DAYLIGHT
TZOFFSETFROM:-0500
TZOFFSETTO:-0400
TZNAME:EDT
DTSTART:20260308T070000
END:DAYLIGHT
BEGIN:STANDARD
TZOFFSETFROM:-0400
TZOFFSETTO:-0500
TZNAME:EST
DTSTART:20261101T060000
END:STANDARD
BEGIN:DAYLIGHT
TZOFFSETFROM:-0500
TZOFFSETTO:-0400
TZNAME:EDT
DTSTART:20270314T070000
END:DAYLIGHT
BEGIN:STANDARD
TZOFFSETFROM:-0400
TZOFFSETTO:-0500
TZNAME:EST
DTSTART:20271107T060000
END:STANDARD
END:VTIMEZONE
BEGIN:VEVENT
DTSTART;TZID=America/New_York:20260421T083000
DTEND;TZID=America/New_York:20260421T123000
DTSTAMP:20260423T185617
CREATED:20250926T180212Z
LAST-MODIFIED:20250926T180217Z
UID:6918-1776760200-1776774600@brianpateseminars.com
SUMMARY:Tuesday\, April 21\, 2026 General Update Sponsored by Drees Homes
DESCRIPTION:General Update CE Course\nThe 2025-26 General Update course gives attendees 4 hours of Update Continuing Education Credit for the 2025-26 license year. Topics include: agency\, frequently asked questions\, fair housing\, licensing and education\, and law and rule updates.  \nThis is a 4 hour course created by the North Carolina Real Estate Commission for Update Credit for NON-BIC licensees. \n			\n			\n				\n				\n				\n				\n			\n				\n				\n				\n				\n				\n				\n				\n				\n				\n				\n				*Registration for this course closes at 6pm the night before the course is scheduled to begin.* \n\n			\n			\n				\n				\n				\n				\n			\n				\n				\n				\n				\n				\n				\n				\n				\n				\n				\n				Registration for this course has closed.\nPlease check the courses for the next available course. \n			\n			\n				\n				\n				\n				\n				\n				Search For Courses
URL:https://brianpateseminars.com/courses/tuesday-april-21-2026-general-update-sponsored-by-drees-homes/
LOCATION:Drees Homes\, 8529 Six Forks Road\, Raleigh\, NC\, 27615\, United States
CATEGORIES:General Update CE Course
ATTACH;FMTTYPE=image/jpeg:https://brianpateseminars.com/wp-content/uploads/2021/12/Genup-Course-Cover-Page-for-Website.jpg
END:VEVENT
END:VCALENDAR