BEGIN:VCALENDAR
VERSION:2.0
PRODID:-//Brian Pate Seminars - ECPv6.15.20//NONSGML v1.0//EN
CALSCALE:GREGORIAN
METHOD:PUBLISH
X-ORIGINAL-URL:https://brianpateseminars.com
X-WR-CALDESC:Events for Brian Pate Seminars
REFRESH-INTERVAL;VALUE=DURATION:PT1H
X-Robots-Tag:noindex
X-PUBLISHED-TTL:PT1H
BEGIN:VTIMEZONE
TZID:America/New_York
BEGIN:DAYLIGHT
TZOFFSETFROM:-0500
TZOFFSETTO:-0400
TZNAME:EDT
DTSTART:20250309T070000
END:DAYLIGHT
BEGIN:STANDARD
TZOFFSETFROM:-0400
TZOFFSETTO:-0500
TZNAME:EST
DTSTART:20251102T060000
END:STANDARD
BEGIN:DAYLIGHT
TZOFFSETFROM:-0500
TZOFFSETTO:-0400
TZNAME:EDT
DTSTART:20260308T070000
END:DAYLIGHT
BEGIN:STANDARD
TZOFFSETFROM:-0400
TZOFFSETTO:-0500
TZNAME:EST
DTSTART:20261101T060000
END:STANDARD
BEGIN:DAYLIGHT
TZOFFSETFROM:-0500
TZOFFSETTO:-0400
TZNAME:EDT
DTSTART:20270314T070000
END:DAYLIGHT
BEGIN:STANDARD
TZOFFSETFROM:-0400
TZOFFSETTO:-0500
TZNAME:EST
DTSTART:20271107T060000
END:STANDARD
END:VTIMEZONE
BEGIN:VEVENT
DTSTART;TZID=America/New_York:20260505T083000
DTEND;TZID=America/New_York:20260505T123000
DTSTAMP:20260423T154935
CREATED:20251117T210016Z
LAST-MODIFIED:20251117T210027Z
UID:7098-1777969800-1777984200@brianpateseminars.com
SUMMARY:May 5\, 2026 BICUP  8:30am-12:30pm IN PERSON - Raleigh
DESCRIPTION:BICUP CE Course\nThis class will be held IN-PERSON at the Forum 4 Building at 8529 Six Forks Road\, Raleigh\, NC. It is sponsored by Drees Homes. \nThe 2025-26 BICUP course gives attendees 4 hours of Update Continuing Education Credit for the 2025-26 license year. Topics include: agency\, frequently asked questions\, fair housing\, licensing and education\, and law and rule updates. \nThis is a 4 hour course created by the North Carolina Real Estate Commission for Update Credit for BIC and BIC-eligible licensees. \n			\n			\n				\n				\n				\n				\n			\n				\n				\n				\n				\n				\n				\n				Register For This Course\n			\n				\n				\n				\n				\n				*Registration for this course closes at 6pm the night before the course is scheduled to begin.*
URL:https://brianpateseminars.com/courses/may-5-2026-bicup-830am-1230pm-in-person-raleigh/
LOCATION:Drees Homes\, 8529 Six Forks Road\, Raleigh\, NC\, 8529 Six Forks Road\, Raeligh\, NC\, 27615\, United States
CATEGORIES:Broker In Charge Update CE Course
END:VEVENT
END:VCALENDAR