BEGIN:VCALENDAR
VERSION:2.0
PRODID:-//Brian Pate Seminars - ECPv6.15.20//NONSGML v1.0//EN
CALSCALE:GREGORIAN
METHOD:PUBLISH
X-WR-CALNAME:Brian Pate Seminars
X-ORIGINAL-URL:https://brianpateseminars.com
X-WR-CALDESC:Events for Brian Pate Seminars
REFRESH-INTERVAL;VALUE=DURATION:PT1H
X-Robots-Tag:noindex
X-PUBLISHED-TTL:PT1H
BEGIN:VTIMEZONE
TZID:America/New_York
BEGIN:DAYLIGHT
TZOFFSETFROM:-0500
TZOFFSETTO:-0400
TZNAME:EDT
DTSTART:20250309T070000
END:DAYLIGHT
BEGIN:STANDARD
TZOFFSETFROM:-0400
TZOFFSETTO:-0500
TZNAME:EST
DTSTART:20251102T060000
END:STANDARD
BEGIN:DAYLIGHT
TZOFFSETFROM:-0500
TZOFFSETTO:-0400
TZNAME:EDT
DTSTART:20260308T070000
END:DAYLIGHT
BEGIN:STANDARD
TZOFFSETFROM:-0400
TZOFFSETTO:-0500
TZNAME:EST
DTSTART:20261101T060000
END:STANDARD
BEGIN:DAYLIGHT
TZOFFSETFROM:-0500
TZOFFSETTO:-0400
TZNAME:EDT
DTSTART:20270314T070000
END:DAYLIGHT
BEGIN:STANDARD
TZOFFSETFROM:-0400
TZOFFSETTO:-0500
TZNAME:EST
DTSTART:20271107T060000
END:STANDARD
END:VTIMEZONE
BEGIN:VEVENT
DTSTART;TZID=America/New_York:20260317T090000
DTEND;TZID=America/New_York:20260317T130000
DTSTAMP:20260423T140847
CREATED:20260121T161054Z
LAST-MODIFIED:20260121T161102Z
UID:7557-1773738000-1773752400@brianpateseminars.com
SUMMARY:March 17\, 2026 BICUP Online 9am-1pm
DESCRIPTION:BICUP CE Course\nThe 2025-26 BICUP course gives attendees 4 hours of Update Continuing Education Credit for the 2025-26 license year. Topics include: agency\, frequently asked questions\, fair housing\, licensing and education\, and law and rule updates. \nThis is a 4 hour course created by the North Carolina Real Estate Commission for Update Credit for BIC and BIC-eligible licensees. \n			\n			\n				\n				\n				\n				\n			\n				\n				\n				\n				\n				\n				\n				\n				\n				\n				\n				Registration for this course has closed.\nPlease check the courses for the next available course. \n			\n			\n				\n				\n				\n				\n				\n				Search For Courses
URL:https://brianpateseminars.com/courses/march-17-2026-bicup-online-9am-1pm/
LOCATION:Online
ATTACH;FMTTYPE=image/jpeg:https://brianpateseminars.com/wp-content/uploads/2021/12/BICUP-Cover-for-Website.jpg
END:VEVENT
END:VCALENDAR