BEGIN:VCALENDAR
VERSION:2.0
PRODID:-//Brian Pate Seminars - ECPv6.15.20//NONSGML v1.0//EN
CALSCALE:GREGORIAN
METHOD:PUBLISH
X-ORIGINAL-URL:https://brianpateseminars.com
X-WR-CALDESC:Events for Brian Pate Seminars
REFRESH-INTERVAL;VALUE=DURATION:PT1H
X-Robots-Tag:noindex
X-PUBLISHED-TTL:PT1H
BEGIN:VTIMEZONE
TZID:America/New_York
BEGIN:DAYLIGHT
TZOFFSETFROM:-0500
TZOFFSETTO:-0400
TZNAME:EDT
DTSTART:20250309T070000
END:DAYLIGHT
BEGIN:STANDARD
TZOFFSETFROM:-0400
TZOFFSETTO:-0500
TZNAME:EST
DTSTART:20251102T060000
END:STANDARD
BEGIN:DAYLIGHT
TZOFFSETFROM:-0500
TZOFFSETTO:-0400
TZNAME:EDT
DTSTART:20260308T070000
END:DAYLIGHT
BEGIN:STANDARD
TZOFFSETFROM:-0400
TZOFFSETTO:-0500
TZNAME:EST
DTSTART:20261101T060000
END:STANDARD
BEGIN:DAYLIGHT
TZOFFSETFROM:-0500
TZOFFSETTO:-0400
TZNAME:EDT
DTSTART:20270314T070000
END:DAYLIGHT
BEGIN:STANDARD
TZOFFSETFROM:-0400
TZOFFSETTO:-0500
TZNAME:EST
DTSTART:20271107T060000
END:STANDARD
END:VTIMEZONE
BEGIN:VEVENT
DTSTART;TZID=America/New_York:20260302T111500
DTEND;TZID=America/New_York:20260302T120000
DTSTAMP:20260423T141021
CREATED:20260114T161056Z
LAST-MODIFIED:20260114T161241Z
UID:7414-1772450100-1772452800@brianpateseminars.com
SUMMARY:AI Boot Camp with Brian Pate March 2-April 6\, 2026 11:15am-12noon Via Zoom
DESCRIPTION:This is NOT a CE Course  \nWeek 1: OpenAI ChatGPT Basics \n\nPaid version vs. free version\nWhat is it best for?\nUsing simple prompts\nAI Hallucination\nData privacy\nPrompt Engineering\n\nWeek 2: Gemini Basics \n\nWhat is it best for?\nUsing simple prompts\nUsing Nano Banana to create images\nComparison of OpenAI vs Gemini side by side\n\nWeek 3: Claude \n\nBuilding your brain of information\nDifferences between Claude and others\n\nWeek 4: Confirmation Bias \n\nInteracting with AI Systems\n\nWeek 5: Custom GPTs in Open AI \n\nHow to create custom GPTs to automate recurring tasks\n\nWeek 6: Your AI Tech Stack \n\nUsing Claude\, OpenAI and Gemini together\n\n			\n			\n				\n				\n				\n				\n			\n				\n				\n				\n				\n				\n				\n				\n				\n				\n				\n				*Registration for this course closes at 6pm the night before the course is scheduled to begin.* \n\n			\n			\n				\n				\n				\n				\n			\n				\n				\n				\n				\n				\n				\n				\n				\n				\n				\n				Registration for this course has closed.\nPlease check the courses for the next available course. \n			\n			\n				\n				\n				\n				\n				\n				Search For Courses
URL:https://brianpateseminars.com/courses/ai-boot-camp-with-brian-pate-march-2-april-6-2026-1115am-12noon-via-zoom/
LOCATION:Online
ATTACH;FMTTYPE=image/png:https://brianpateseminars.com/wp-content/uploads/2026/01/AI-Boot-Camp-March-2-2026-through-April-6-2026-via-Zoom.png
END:VEVENT
END:VCALENDAR